BEGIN:VCALENDAR
VERSION:2.0
PRODID:GIGPRESS 2.0 WORDPRESS PLUGIN
CALSCALE:GREGORIAN
X-WR-TIMEZONE:Etc/GMT
METHOD:PUBLISH
BEGIN:VTIMEZONE
TZID:GMT
BEGIN:STANDARD
DTSTART:20071028T010000
TZOFFSETTO:+0000
TZOFFSETFROM:+0000
END:STANDARD
END:VTIMEZONE
BEGIN:VEVENT
SUMMARY:Graham Elwood at Hero's
DESCRIPTION:Tour: Collapsing Empire Tour. Notes: Graham is back in Singapore! No Minors
LOCATION:Hero's\, 69 CIRCULAR ROAD\, Singapore\, SG
UID:20260512T200000Z-244-marcia@sparkiepop.com
URL:https://www.grahamelwood.com
DTSTART;VALUE=DATE-TIME;TZID=GMT:20260512T200000Z
DTEND;VALUE=DATE-TIME;TZID=GMT:20260512T200000Z
DTSTAMP:20260423T095549Z
END:VEVENT
END:VCALENDAR